Workbook

Sheet Náklady
B1: Pravidelné měsíční náklady | L1: Jednorázové náklady
B3: Fixní náklady | C3: Osobní náklady
C4: Pracovní pozice (PP, DPČ či DPP nad 10 tis. Kč měsíčně) | D4: Úvazek | E4: Hrubá mzda (úvazek 1,0) | F4: Přepočet hrubá mzda | G4: Odvody zaměstnavatele na SP a ZP | H4: Celkový měsíční náklad | L4: Popis zařízení | M4: Počet ks | N4: Částka za kus | O4: Částka celkem | P4: Termín pořízení | Q4: Zdůvodnění potřebnosti/ technické parametry/ odkaz na webové stránky
C5: Manažer podniku | E5: 0 | F5: =D5*E5 -> 0 | G5: =F5*0.34 -> 0 | H5: =F5+G5 -> 0 | O5: =M5*N5 -> 0
C6: Marketingový pracovník | E6: 0 | F6: =D6*E6 -> 0 | G6: =F6*0.34 -> 0 | H6: =F6+G6 -> 0 | O6: =M6*N6 -> 0
C7: Vedoucí CS/mistr/předák | E7: 0 | F7: =D7*E7 -> 0 | G7: =F7*0.34 -> 0 | H7: =F7+G7 -> 0 | O7: =M7*N7 -> 0
C8: Zaměstnanec z CS 1 | E8: 0 | F8: =D8*E8 -> 0 | G8: =F8*0.34 -> 0 | H8: =F8+G8 -> 0 | O8: =M8*N8 -> 0
C9: Zaměstnanec z CS 2 | E9: 0 | F9: =D9*E9 -> 0 | G9: =F9*0.34 -> 0 | H9: =F9+G9 -> 0 | O9: =M9*N9 -> 0
E10: 0 | F10: =D10*E10 -> 0 | G10: =F10*0.34 -> 0 | H10: =F10+G10 -> 0 | O10: =M10*N10 -> 0
E11: 0 | F11: =D11*E11 -> 0 | G11: =F11*0.34 -> 0 | H11: =F11+G11 -> 0 | O11: =M11*N11 -> 0
E12: 0 | F12: =D12*E12 -> 0 | G12: =F12*0.34 -> 0 | H12: =F12+G12 -> 0 | O12: =M12*N12 -> 0
C13: Pracovní pozice (DPP do 10 tis. Kč) | E13: Počet hodin/měsíc | G13: Hodinová mzda | H13: Celkový měsíční náklad | O13: =M13*N13 -> 0
C14: Psychosociální pracovník | E14: 0 | G14: 0 | H14: =E14*G14 -> 0 | O14: =M14*N14 -> 0
E15: 0 | G15: 0 | H15: =E15*G15 -> 0 | O15: =M15*N15 -> 0
E16: 0 | G16: 0 | H16: =E16*G16 -> 0 | O16: =M16*N16 -> 0
E17: 0 | G17: 0 | H17: =E17*G17 -> 0 | O17: =M17*N17 -> 0
E18: 0 | G18: 0 | H18: =E18*G18 -> 0 | I18: Osobní náklady CELKEM | O18: =M18*N18 -> 0
E19: 0 | G19: 0 | H19: =E19*G19 -> 0 | I19: =SUM(H5:H12,H14:H19) -> 0 | O19: =M19*N19 -> 0
C20: Ostatní fixní náklady | O20: =M20*N20 -> 0
C21: Název položky | E21: Komentář k položce | H21: Celkový měsíční náklad | O21: =M21*N21 -> 0
C22: Pronájem prostor | H22: 0 | O22: =M22*N22 -> 0
C23: Spotřeba energií | H23: 0 | O23: =M23*N23 -> 0
C24: Poplatky za internet a telefony | H24: 0 | O24: =M24*N24 -> 0
C25: Kancelářské potřeby | H25: 0 | O25: =M25*N25 -> 0
C26: Opravy a údržba | H26: 0 | O26: =M26*N26 -> 0
C27: Úklid | H27: 0 | O27: =M27*N27 -> 0
C28: Zpracování účetnictví, administrativy externě | H28: 0 | O28: =M28*N28 -> 0
C29: Bankovní poplatky, pojištění, ostatní | H29: 0 | O29: =M29*N29 -> 0
C30: Propagace, reklama | H30: 0 | O30: =M30*N30 -> 0
H31: 0 | O31: =M31*N31 -> 0
H32: 0
H33: 0 | L33: Náklady za zařízení/ vybavení CELKEM | O33: =SUM(O5:O31) -> 0
H34: 0
B35: Fixní náklady měsíčně CELKEM | H35: =SUM(H5:H12,H14:H19,H22:H34) -> 0
B37: Variabilní náklady | C37: Název položky | E37: Komentář k položce | H37: Varianta 1 - pesimistická/rozjezdová/mimosezónní | I37: Varianta 2 - reálná/průměrná | J37: Varianta 3 - optimistická/sezónní
C38: Materiál/ suroviny na výrobu | H38: 0 | I38: 0 | J38: 0 | L38: Pozn.:
C39: Náklady na dopravu | H39: 0 | I39: 0 | J39: 0 | L39: 1. Náklady je třeba rozepsat položkově, souhrnné položky u některých typů provozů nejsou dostatečně transparentní.
C40: Obalový materiál/náklady na zajištění obalu | H40: 0 | I40: 0 | J40: 0 | L40: 2. Kalkulace nákladů by měla být provázaná s kalkulací ceny (možnost ověřit správnost výpočtů a provázanost informací mezi jednotlivými listy).
H41: 0 | I41: 0 | J41: 0 | L41: 3. Varianty nejsou nezbytné tři, požadujeme minimálně dvě.
H42: 0 | I42: 0 | J42: 0
H43: 0 | I43: 0 | J43: 0
H44: 0 | I44: 0 | J44: 0
H45: 0 | I45: 0 | J45: 0
H46: 0 | I46: 0 | J46: 0
B47: Variabilní náklady měsíčně CELKEM | H47: =SUM(H38:H46) -> 0 | I47: =SUM(I38:I46) -> 0 | J47: =SUM(J38:J46) -> 0 | L47: Po vypracování FP odstraňte z celého vzoru všechny komentáře s instrukcemi k vyplnění. Pro vysvětlení hodnot využívejte výhradně pole s textovým obsahem, nepoužívejte vkládání komentářů k buňkám. Finanční plán stručně okomentujte v Podnikatelském plánu.
H49: Varianta 1 - pesimistická/ rozjezdová/ mimosezónní | I49: Varianta 2 - reálná/ průměrná | J49: Varianta 3 - optimistická/ sezónní
B50: Náklady (fixní + variabilní) měsíčně CELKEM | H50: =H35+H47 -> 0 | I50: =H35+I47 -> 0 | J50: =H35+J47 -> 0

Sheet Výnosy
B1: Měsíční výnosy sociálního podniku
B3: Tržby z prodeje vlastního produktu | G3: Pozn.: | H3: 1. Doporučujeme komentovat, kdy jsou očekávány jednotlivé fáze/varianty, příp. za jakých podmínek, informace musí být provázané s listem HV.
B4: Varianta 1 - pesimistická/rozjezdová/mimosezónní | H4: 2. Varianty nejsou nezbytné tři, požadujeme minimálně dvě.
B5: Produkt (výrobek/služba) | C5: Počet prodaných ks/poskytnutých služeb | D5: Cena za kus | E5: Tržba | F5: Komentář
B6: A | E6: =C6*D6 -> 0
B7: B | E7: =C7*D7 -> 0
B8: C | E8: =C8*D8 -> 0
B9: D | E9: =C9*D9 -> 0
B10: E | E10: =C10*D10 -> 0
D11: Celkem | E11: =SUM(E6:E10) -> 0
B13: Varianta 2 - reálná/průměrná
B14: Produkt (výrobek/služba) | C14: Počet prodaných ks/poskytnutých služeb | D14: Cena za kus | E14: Tržba | F14: Komentář
B15: A | E15: =C15*D15 -> 0
B16: B | E16: =C16*D16 -> 0
B17: C | E17: =C17*D17 -> 0
B18: D | E18: =C18*D18 -> 0
B19: E | E19: =C19*D19 -> 0
D20: Celkem | E20: =SUM(E15:E19) -> 0
B22: Varianta 3 - optimistická/sezónní
B23: Produkt (výrobek/služba) | C23: Počet prodaných ks/poskytnutých služeb | D23: Cena za kus | E23: Tržba | F23: Komentář
B24: A | E24: =C24*D24 -> 0
B25: B | E25: =C25*D25 -> 0
B26: C | E26: =C26*D26 -> 0
B27: D | E27: =C27*D27 -> 0
B28: E | E28: =C28*D28 -> 0
D29: Celkem | E29: =SUM(E24:E28) -> 0
B31: Ostatní výnosy | C31: Částka | D31: Poznámka
B32: Dotace OPZ (bez spolufinancování)
B33: Veřejné zdroje | D33: např. IROP, ÚP
B34: Dárci
B35: Ostatní
B36: Celkem | C36: =SUM(C33:C35) -> 0

Sheet HV
A1: Hospodářský výsledek sociálního podniku - výhled 3 roky
A3: 1. rok | N3: Celkem 1. rok
A4: Měsíc provozu podniku | B4: 1 | C4: 2 | D4: 3 | E4: 4 | F4: 5 | G4: 6 | H4: 7 | I4: 8 | J4: 9 | K4: 10 | L4: 11 | M4: 12 | N4: Částka | O4: %
A6: Náklady celkem | B6: 0 | C6: 0 | D6: 0 | E6: 0 | F6: 0 | G6: 0 | H6: 0 | I6: 0 | J6: 0 | K6: 0 | L6: 0 | M6: 0 | N6: =SUM(B6:M6) -> 0
A8: Tržby z prodeje vlastního produktu | B8: 0 | C8: 0 | D8: 0 | E8: 0 | F8: 0 | G8: 0 | H8: 0 | I8: 0 | J8: 0 | K8: 0 | L8: 0 | M8: 0 | N8: =SUM(B8:M8) -> 0 | O8: =N8/N11 -> #DIV/0!
A9: Ostatní výnosy - dotace OPZ | B9: 0 | C9: 0 | D9: 0 | E9: 0 | F9: 0 | G9: 0 | H9: 0 | I9: 0 | J9: 0 | K9: 0 | L9: 0 | M9: 0 | N9: =SUM(B9:M9) -> 0 | O9: =N9/N11 -> #DIV/0!
A10: Ostatní výnosy - další dotace, dary apod. | B10: 0 | C10: 0 | D10: 0 | E10: 0 | F10: 0 | G10: 0 | H10: 0 | I10: 0 | J10: 0 | K10: 0 | L10: 0 | M10: 0 | N10: =SUM(B10:M10) -> 0 | O10: =N10/N11 -> #DIV/0!
A11: Výnosy celkem | B11: =SUM(B8:B10) -> 0 | C11: =SUM(C8:C10) -> 0 | D11: 0 | E11: 0 | F11: 0 | G11: 0 | H11: 0 | I11: 0 | J11: =SUM(J8:J10) -> 0 | K11: =SUM(K8:K10) -> 0 | L11: =SUM(L8:L10) -> 0 | M11: =SUM(M8:M10) -> 0 | N11: =SUM(B11:M11) -> 0 | O11: =SUM(O8:O10) -> #DIV/0!
A13: Hospodářský výsledek měsíční | B13: =B11-B6 -> 0 | C13: =C11-C6 -> 0 | D13: =D11-D6 -> 0 | E13: =E11-E6 -> 0 | F13: =F11-F6 -> 0 | G13: =G11-G6 -> 0 | H13: =H11-H6 -> 0 | I13: =I11-I6 -> 0 | ... M13: =M11-M6 -> 0 | N13: =SUM(B13:M13) -> 0
A14: Hospodářský výsledek kumulativně | B14: =B13 -> 0 | C14: =C13+B14 -> 0 | D14: =D13+C14 -> 0 | E14: =E13+D14 -> 0 | F14: =F13+E14 -> 0 | G14: =G13+F14 -> 0 | H14: =H13+G14 -> 0 | I14: =I13+H14 -> 0 | J14: =J13+I14 -> 0 | ... M14: =M13+L14 -> 0
A16: Komentáře:
A17: Náklady | B17: 1 | C17: 2 | D17: 3 | E17: 4 | F17: 5 | G17: 6 | H17: 7 | I17: 8 | J17: 9 | K17: 10 | L17: 11 | M17: 12
A18: Komentář:
A19: Výnosy | B19: 1 | C19: 2 | D19: 3 | E19: 4 | F19: 5 | G19: 6 | H19: 7 | I19: 8 | J19: 9 | K19: 10 | L19: 11 | M19: 12
A20: Komentář:
A23: 2. rok | N23: Celkem 2. rok
A24: Měsíc provozu podniku | B24: 13 | C24: 14 | D24: 15 | E24: 16 | F24: 17 | G24: 18 | H24: 19 | I24: 20 | J24: 21 | K24: 22 | L24: 23 | M24: 24 | N24: Částka | O24: %
A26: Náklady | B26: 0 | C26: 0 | D26: 0 | E26: 0 | F26: 0 | G26: 0 | H26: 0 | I26: 0 | J26: 0 | K26: 0 | L26: 0 | M26: 0 | N26: =SUM(B26:M26) -> 0
A28: Tržby z prodeje vlastního produktu | B28: 0 | C28: 0 | D28: 0 | E28: 0 | F28: 0 | G28: 0 | H28: 0 | I28: 0 | J28: 0 | K28: 0 | L28: 0 | M28: 0 | N28: =SUM(B28:M28) -> 0 | O28: =N28/N31 -> #DIV/0!
A29: Ostatní výnosy - dotace OPZ | B29: 0 | C29: 0 | D29: 0 | E29: 0 | F29: 0 | G29: 0 | H29: 0 | I29: 0 | J29: 0 | K29: 0 | L29: 0 | M29: 0 | N29: =SUM(B29:M29) -> 0 | O29: =N29/N31 -> #DIV/0!
A30: Ostatní výnosy - další dotace, dary apod. | B30: 0 | C30: 0 | D30: 0 | E30: 0 | F30: 0 | G30: 0 | H30: 0 | I30: 0 | J30: 0 | K30: 0 | L30: 0 | M30: 0 | N30: =SUM(B30:M30) -> 0 | O30: =N30/N31 -> #DIV/0!
A31: Výnosy celkem | B31: =SUM(B28:B30) -> 0 | C31: =SUM(C28:C30) -> 0 | D31: =SUM(D28:D30) -> 0 | E31: =SUM(E28:E30) -> 0 | F31: =SUM(F28:F30) -> 0 | G31: =SUM(G28:G30) -> 0 | H31: =SUM(H28:H30) -> 0 | I31: =SUM(I28:I30) -> 0 | ... M31: =SUM(M28:M30) -> 0 | N31: =SUM(B31:M31) -> 0 | O31: =SUM(O28:O30) -> #DIV/0!
A33: Hospodářský výsledek měsíční | B33: =B31-B26 -> 0 | C33: =C31-C26 -> 0 | D33: =D31-D26 -> 0 | E33: =E31-E26 -> 0 | F33: =F31-F26 -> 0 | G33: =G31-G26 -> 0 | H33: =H31-H26 -> 0 | I33: =I31-I26 -> 0 | ... M33: =M31-M26 -> 0 | N33: =SUM(B33:M33) -> 0
A34: Hospodářský výsledek kumulativně | B34: =B33+M14 -> 0 | C34: =C33+B34 -> 0 | D34: =D33+C34 -> 0 | E34: =E33+D34 -> 0 | F34: =F33+E34 -> 0 | G34: =G33+F34 -> 0 | H34: =H33+G34 -> 0 | I34: =I33+H34 -> 0 | J34: =J33+I34 -> 0 | ... M34: =M33+L34 -> 0
A36: Komentáře:
A37: Náklady | B37: 13 | C37: 14 | D37: 15 | E37: 16 | F37: 17 | G37: 18 | H37: 19 | I37: 20 | J37: 21 | K37: 22 | L37: 23 | M37: 24
A38: Komentář:
A39: Výnosy | B39: 13 | C39: 14 | D39: 15 | E39: 16 | F39: 17 | G39: 18 | H39: 19 | I39: 20 | J39: 21 | K39: 22 | L39: 23 | M39: 24
A40: Komentář:
A43: 3. rok | N43: Celkem 3. rok
A44: Měsíc provozu podniku | B44: 25 | C44: 26 | D44: 27 | E44: 28 | F44: 29 | G44: 30 | H44: 31 | I44: 32 | J44: 33 | K44: 34 | L44: 35 | M44: 36 | N44: Částka | O44: %
A46: Náklady | B46: 0 | C46: 0 | D46: 0 | E46: 0 | F46: 0 | G46: 0 | H46: 0 | I46: 0 | J46: 0 | K46: 0 | L46: 0 | M46: 0 | N46: =SUM(B46:M46) -> 0
A48: Tržby z prodeje vlastního produktu | B48: 0 | C48: 0 | D48: 0 | E48: 0 | F48: 0 | G48: 0 | H48: 0 | I48: 0 | J48: 0 | K48: 0 | L48: 0 | M48: 0 | N48: =SUM(B48:M48) -> 0 | O48: =N48/N51 -> #DIV/0!
A49: Ostatní výnosy - dotace OPZ | B49: 0 | C49: 0 | D49: 0 | E49: 0 | F49: 0 | G49: 0 | H49: 0 | I49: 0 | J49: 0 | K49: 0 | L49: 0 | M49: 0 | N49: =SUM(B49:M49) -> 0 | O49: =N49/N51 -> #DIV/0!
A50: Ostatní výnosy - další dotace, dary apod. | B50: 0 | C50: 0 | D50: 0 | E50: 0 | F50: 0 | G50: 0 | H50: 0 | I50: 0 | J50: 0 | K50: 0 | L50: 0 | M50: 0 | N50: =SUM(B50:M50) -> 0 | O50: =N50/N51 -> #DIV/0!
A51: Výnosy celkem | B51: =SUM(B48:B50) -> 0 | C51: =SUM(C48:C50) -> 0 | D51: =SUM(D48:D50) -> 0 | E51: =SUM(E48:E50) -> 0 | F51: =SUM(F48:F50) -> 0 | G51: =SUM(G48:G50) -> 0 | H51: =SUM(H48:H50) -> 0 | I51: =SUM(I48:I50) -> 0 | ... M51: =SUM(M48:M50) -> 0 | N51: =SUM(B51:M51) -> 0 | O51: =SUM(O48:O50) -> #DIV/0!
A53: Hospodářský výsledek měsíční | B53: =B51-B46 -> 0 | C53: =C51-C46 -> 0 | D53: =D51-D46 -> 0 | E53: =E51-E46 -> 0 | F53: =F51-F46 -> 0 | G53: =G51-G46 -> 0 | H53: =H51-H46 -> 0 | I53: =I51-I46 -> 0 | ... M53: =M51-M46 -> 0 | N53: =SUM(B53:M53) -> 0
A54: Hospodářský výsledek kumulativně | B54: =B53+M34 -> 0 | C54: =C53+B54 -> 0 | D54: =D53+C54 -> 0 | E54: =E53+D54 -> 0 | F54: =F53+E54 -> 0 | G54: =G53+F54 -> 0 | H54: =H53+G54 -> 0 | I54: =I53+H54 -> 0 | J54: =J53+I54 -> 0 | ... M54: =M53+L54 -> 0
A56: Komentáře:
A57: Náklady | B57: 25 | C57: 26 | D57: 27 | E57: 28 | F57: 29 | G57: 30 | H57: 31 | I57: 32 | J57: 33 | K57: 34 | L57: 35 | M57: 36
A58: Komentář:
A59: Výnosy | B59: 25 | C59: 26 | D59: 27 | E59: 28 | F59: 29 | G59: 30 | H59: 31 | I59: 32 | J59: 33 | K59: 34 | L59: 35 | M59: 36
A60: Komentář:

Sheet Cash flow
A1: Cash flow (peněžní tok) - výhled 3 roky
A3: 1. rok
A4: Měsíc provozu podniku | B4: 1 | C4: 2 | D4: 3 | E4: 4 | F4: 5 | G4: 6 | H4: 7 | I4: 8 | J4: 9 | K4: 10 | L4: 11 | M4: 12
A6: Výdaje | O6: Pozn.:
A8: Příjmy | O8: Vysvětlete, jakým způsobem jste cash flow naplánovali - zohlednění splatnosti faktur, plateb v hotovosti, čtvrtletní/měsíční náklady atd.
A10: Cash flow | B10: =B8-B6 -> 0 | C10: =B10-C6+C8 -> 0 | D10: =C10-D6+D8 -> 0 | E10: =D10-E6+E8 -> 0 | F10: =E10-F6+F8 -> 0 | G10: =F10-G6+G8 -> 0 | H10: =G10-H6+H8 -> 0 | I10: =H10-I6+I8 -> 0 | J10: =I10-J6+J8 -> 0 | ... M10: =L10-M6+M8 -> 0
O11: Dotace OPZ je vyplácena ve formě záloh následujícím způsobem: 1. na začátku realizace projektu dojde k proplacení 50% dotace; 2. v průběhu realizace projektu se zpravidla každých 6 měsíců předkládá Zpráva o realizaci a Žádost o platbu, přičemž k proplacení dochází 1-2 měsíce po předložení; 3. závěrečná Žádost o platbu se předkládá do 2 měsíců po ukončení relizace projektu, k proplacení dochází 1-2 měsíce poté.
A12: Komentáře:
A13: Výdaje | B13: 1 | C13: 2 | D13: 3 | E13: 4 | F13: 5 | G13: 6 | H13: 7 | I13: 8 | J13: 9 | K13: 10 | L13: 11 | M13: 12
A14: Komentář:
A15: Příjmy | B15: 1 | C15: 2 | D15: 3 | E15: 4 | F15: 5 | G15: 6 | H15: 7 | I15: 8 | J15: 9 | K15: 10 | L15: 11 | M15: 12
A16: Komentář:
A19: 2. rok
A20: Měsíc provozu podniku | B20: 13 | C20: 14 | D20: 15 | E20: 16 | F20: 17 | G20: 18 | H20: 19 | I20: 20 | J20: 21 | K20: 22 | L20: 23 | M20: 24
A22: Výdaje
A24: Příjmy
A26: Cash flow | B26: =M10-B22+B24 -> 0 | C26: =B26-C22+C24 -> 0 | D26: =C26-D22+D24 -> 0 | E26: =D26-E22+E24 -> 0 | F26: =E26-F22+F24 -> 0 | G26: =F26-G22+G24 -> 0 | H26: =G26-H22+H24 -> 0 | I26: =H26-I22+I24 -> 0 | J26: =I26-J22+J24 -> 0 | ... M26: =L26-M22+M24 -> 0
A28: Komentáře:
A29: Výdaje | B29: 13 | C29: 14 | D29: 15 | E29: 16 | F29: 17 | G29: 18 | H29: 19 | I29: 20 | J29: 21 | K29: 22 | L29: 23 | M29: 24
A30: Komentář:
A31: Příjmy | B31: 13 | C31: 14 | D31: 15 | E31: 16 | F31: 17 | G31: 18 | H31: 19 | I31: 20 | J31: 21 | K31: 22 | L31: 23 | M31: 24
A32: Komentář:
A35: 3. rok
A36: Měsíc provozu podniku | B36: 25 | C36: 26 | D36: 27 | E36: 28 | F36: 29 | G36: 30 | H36: 31 | I36: 32 | J36: 33 | K36: 34 | L36: 35 | M36: 36
A38: Výdaje
A40: Příjmy
A42: Cash flow | B42: =M26-B38+B40 -> 0 | C42: =B42-C38+C40 -> 0 | D42: =C42-D38+D40 -> 0 | E42: =D42-E38+E40 -> 0 | F42: =E42-F38+F40 -> 0 | G42: =F42-G38+G40 -> 0 | H42: =G42-H38+H40 -> 0 | I42: =H42-I38+I40 -> 0 | J42: =I42-J38+J40 -> 0 | ... M42: =L42-M38+M40 -> 0
A44: Komentáře:
A45: Výdaje | B45: 25 | C45: 26 | D45: 27 | E45: 28 | F45: 29 | G45: 30 | H45: 31 | I45: 32 | J45: 33 | K45: 34 | L45: 35 | M45: 36
A46: Komentář:
A47: Příjmy | B47: 25 | C47: 26 | D47: 27 | E47: 28 | F47: 29 | G47: 30 | H47: 31 | I47: 32 | J47: 33 | K47: 34 | L47: 35 | M47: 36
A48: Komentář:

Sheet Kalkulace ceny
A1: Kalkulace ceny produktu
A2: Pozn.: Popište, co je Vaším produktem, jakým způsobem byla stanovena cena, jaká je marže. Uveďte detailní propočet.
A4: Příklady: možno i jako balíček služeb (v obchodě průměrný zákazník, v gastro typický zákazník apod.)
B6: Komentář | C6: Kalkulace | D6: Výrobní cena | E6: Prodejní cena | F6: Marže
A7: Produkt A | D7: 55 | E7: 66
A8: Produkt B | D8: 55 | E8: 66
A9: Produkt C | D9: 55 | E9: 66
A10: Produkt D | D10: 55 | E10: 66
A11: Produkt E
A12: Produkt F
A13: Produkt G
A14: Produkt H
A15: Produkt CH
A16: Produkt I
A17: Produkt J
A18: Produkt K
A19: Produkt L
A20: Produkt M
A21: Produkt N
A22: Produkt O
... A33: Produkt Z

Sheet HV_před projektem
A1: Vývoj hospodářského výsledku (relevantní pro subjekty svou činnost již provozující)
B3: Rok …… | C3: Rok ….. | D3: Rok ….. | E3: Rok ….. | F3: Rok …….
A4: Náklady celkem | B4: 0 | C4: 0 | D4: 0 | E4: 0 | F4: 0
A5: Tržby z prodeje vlastního produktu | B5: 0 | C5: 0 | D5: 0 | E5: 0 | F5: 0
A6: Ostatní výnosy - dotace OPZ | B6: 0 | C6: 0 | D6: 0 | E6: 0 | F6: 0
A7: Ostatní výnosy - další dotace, dary apod. | B7: 0 | C7: 0 | D7: 0 | E7: 0 | F7: 0
A8: Výnosy celkem | B8: =B5+B6+B7 -> 0 | C8: =C5+C6+C7 -> 0 | D8: =D5+D6+D7 -> 0 | E8: =E5+E6+E7 -> 0 | F8: =F5+F6+F7 -> 0
A9: Hospodářský výsledek měsíční | B9: =B8-B4 -> 0 | C9: =C8-C4 -> 0 | D9: =D8-D4 -> 0 | E9: =E8-E4 -> 0 | F9: =F8-F4 -> 0
A10: Hospodářský výsledek kumulativně | B10: =B9 -> 0 | C10: =C9+B10 -> 0 | D10: =D9+C10 -> 0 | E10: =E9+D10 -> 0 | F10: =F9+E10 -> 0
A12: Pozn.: V tomto přehledu uvede již existující subjekt, jaký byl jeho vývoj hospodářského výsledku v čase (poslední roky)

Sheet Bod zvratu_1 produkt
A1: Bod zvratu - k využití v případě jednoho klíčového výrobku/ služby
A2: Bod zvratu je takové množství produkce firmy, při kterém nevzniká žádný zisk ani ztráta. Dosahuje-li firma této produkce, pak se tržby rovnají nákladům.
C4: Vzorec pro výpočet bodu zvratu:
C5: Q = FN / (P - VN)
A6: Q | B6: množství produkce za měsíc
A7: P | B7: prodejní cena za 1 ks produktu
A8: FN | B8: fixní náklady za měsíc
A9: VN | B9: variabilní náklady za ks/jednu službu
B11: Fixní náklady Vašeho podniku | C11: =Náklady!H35 -> 0
B12: Prodejní cena za 1 kus produktu | C12: 0 | D12: Pozn.: Musí být v souladu s informacemi z ostatních listů finančního plánu.
B13: Variabilní náklady za 1 kus produktu | C13: 0
B15: Bod zvratu | C15: =C11/(C12-C13) -> #DIV/0!
B17: Komentář k výpočtu bodu zvratu:

Sheet Boz zvratu_více produktů
A1: Bod zvratu - k využití v případě řady výrobků/ služeb různé ceny
B2: Portfolio výrobků | H2: Bod zvratu | I2: =I3-I4 -> 465 | J2: Pokud je bod zvratu záporný, podnik nikdy nezačně vydělávat.
A3: Produkt | B3: P (prodejní cena 1 ks produktu) | C3: Q (množství produkce za měsíc) | D3: Výnosy z prodeje konkrétního výrobku | E3: VN (variabilní náklady) | F3: Celkové náklady na prodej konkrétního výrobku | H3: Celkové výnosy z prodeje výrobků | I3: =D31 -> 990 | J3: Součet všech výnosů z prodeje výrobků
A4: ='Kalkulace ceny'!A7 -> Produkt A | B4: ='Kalkulace ceny'!E7 -> 66 | C4: 5 | D4: =B4*C4 -> 330 | E4: 5 | F4: =E4*C4 -> 25 | H4: Celkové náklady na výrobu výrobků | I4: =F31+I6 -> 525 | J4: Součet všech nákladů na výrobu výrobků a fixních nákladů
A5: ='Kalkulace ceny'!A8 -> Produkt B | B5: ='Kalkulace ceny'!E8 -> 66 | C5: 10 | D5: =B5*C5 -> 660 | E5: 50 | F5: =E5*C5 -> 500
A6: ='Kalkulace ceny'!A9 -> Produkt C | B6: ='Kalkulace ceny'!E9 -> 66 | D6: =B6*C6 -> 0 | F6: =E6*C6 -> 0 | H6: Fixní náklady | I6: 0
A7: ='Kalkulace ceny'!A10 -> Produkt D | B7: ='Kalkulace ceny'!E10 -> 66 | D7: =B7*C7 -> 0 | F7: =E7*C7 -> 0
A8: ='Kalkulace ceny'!A11 -> Produkt E | B8: ='Kalkulace ceny'!E11 -> 0 | D8: =B8*C8 -> 0 | F8: =E8*C8 -> 0
A9: ='Kalkulace ceny'!A12 -> Produkt F | B9: ='Kalkulace ceny'!E12 -> 0 | D9: =B9*C9 -> 0 | F9: =E9*C9 -> 0 | H9: Vzorec pro výpočet bodu zvratu
A10: ='Kalkulace ceny'!A13 -> Produkt G | B10: ='Kalkulace ceny'!E13 -> 0 | D10: =B10*C10 -> 0 | F10: =E10*C10 -> 0
A11: ='Kalkulace ceny'!A14 -> Produkt H | B11: ='Kalkulace ceny'!E14 -> 0 | D11: =B11*C11 -> 0 | F11: =E11*C11 -> 0
A12: ='Kalkulace ceny'!A15 -> Produkt CH | B12: ='Kalkulace ceny'!E15 -> 0 | D12: =B12*C12 -> 0 | F12: =E12*C12 -> 0
A13: ='Kalkulace ceny'!A16 -> Produkt I | B13: ='Kalkulace ceny'!E16 -> 0 | D13: =B13*C13 -> 0 | F13: =E13*C13 -> 0
A14: ='Kalkulace ceny'!A17 -> Produkt J | B14: ='Kalkulace ceny'!E17 -> 0 | D14: =B14*C14 -> 0 | F14: =E14*C14 -> 0
A15: ='Kalkulace ceny'!A18 -> Produkt K | B15: ='Kalkulace ceny'!E18 -> 0 | D15: =B15*C15 -> 0 | F15: =E15*C15 -> 0
A16: ='Kalkulace ceny'!A19 -> Produkt L | B16: ='Kalkulace ceny'!E19 -> 0 | D16: =B16*C16 -> 0 | F16: =E16*C16 -> 0
A17: ='Kalkulace ceny'!A20 -> Produkt M | B17: ='Kalkulace ceny'!E20 -> 0 | D17: =B17*C17 -> 0 | F17: =E17*C17 -> 0
A18: ='Kalkulace ceny'!A21 -> Produkt N | B18: ='Kalkulace ceny'!E21 -> 0 | D18: =B18*C18 -> 0 | F18: =E18*C18 -> 0
A19: ='Kalkulace ceny'!A22 -> Produkt O | B19: ='Kalkulace ceny'!E22 -> 0 | D19: =B19*C19 -> 0 | F19: =E19*C19 -> 0
A20: ='Kalkulace ceny'!A23 -> Produkt P | B20: ='Kalkulace ceny'!E23 -> 0 | D20: =B20*C20 -> 0 | F20: =E20*C20 -> 0
A21: ='Kalkulace ceny'!A24 -> Produkt Q | B21: ='Kalkulace ceny'!E24 -> 0 | D21: =B21*C21 -> 0 | F21: =E21*C21 -> 0
... A30: ='Kalkulace ceny'!A33 -> Produkt Z | B30: ='Kalkulace ceny'!E33 -> 0 | D30: =B30*C30 -> 0 | F30: =E30*C30 -> 0
A31: Celkem | D31: =SUM(D4:D30) -> 990 | F31: =SUM(F4:F30) -> 525
